BEGIN:VCALENDAR
VERSION:2.0
PRODID:-//Lebanese Friends of Canada - ECPv6.15.6//NONSGML v1.0//EN
CALSCALE:GREGORIAN
METHOD:PUBLISH
X-WR-CALNAME:Lebanese Friends of Canada
X-ORIGINAL-URL:https://lfcanada.com
X-WR-CALDESC:Events for Lebanese Friends of Canada
REFRESH-INTERVAL;VALUE=DURATION:PT1H
X-Robots-Tag:noindex
X-PUBLISHED-TTL:PT1H
BEGIN:VTIMEZONE
TZID:America/Toronto
BEGIN:DAYLIGHT
TZOFFSETFROM:-0500
TZOFFSETTO:-0400
TZNAME:EDT
DTSTART:20220313T070000
END:DAYLIGHT
BEGIN:STANDARD
TZOFFSETFROM:-0400
TZOFFSETTO:-0500
TZNAME:EST
DTSTART:20221106T060000
END:STANDARD
BEGIN:DAYLIGHT
TZOFFSETFROM:-0500
TZOFFSETTO:-0400
TZNAME:EDT
DTSTART:20230312T070000
END:DAYLIGHT
BEGIN:STANDARD
TZOFFSETFROM:-0400
TZOFFSETTO:-0500
TZNAME:EST
DTSTART:20231105T060000
END:STANDARD
BEGIN:DAYLIGHT
TZOFFSETFROM:-0500
TZOFFSETTO:-0400
TZNAME:EDT
DTSTART:20240310T070000
END:DAYLIGHT
BEGIN:STANDARD
TZOFFSETFROM:-0400
TZOFFSETTO:-0500
TZNAME:EST
DTSTART:20241103T060000
END:STANDARD
BEGIN:DAYLIGHT
TZOFFSETFROM:-0500
TZOFFSETTO:-0400
TZNAME:EDT
DTSTART:20250309T070000
END:DAYLIGHT
BEGIN:STANDARD
TZOFFSETFROM:-0400
TZOFFSETTO:-0500
TZNAME:EST
DTSTART:20251102T060000
END:STANDARD
END:VTIMEZONE
BEGIN:VEVENT
DTSTART;TZID=America/Toronto:20240414T140000
DTEND;TZID=America/Toronto:20240414T160000
DTSTAMP:20260425T174701
CREATED:20240412T224515Z
LAST-MODIFIED:20240412T224748Z
UID:2902-1713103200-1713110400@lfcanada.com
SUMMARY:الذبيحة الالهية لراحة نفس الرفيق والشهيد باسكال سليمان
DESCRIPTION:
URL:https://lfcanada.com/event/%d8%a7%d9%84%d8%b0%d8%a8%d9%8a%d8%ad%d8%a9-%d8%a7%d9%84%d8%a7%d9%84%d9%87%d9%8a%d8%a9-%d9%84%d8%b1%d8%a7%d8%ad%d8%a9-%d9%86%d9%81%d8%b3-%d8%a7%d9%84%d8%b1%d9%81%d9%8a%d9%82-%d9%88%d8%a7%d9%84%d8%b4/
LOCATION:Our Lady of Lebanon Shrine\, 449 ON-77\, Leamington\, Ontario\, N8H 3V6\, Canada
ORGANIZER;CN="LFC - Windsor Chapter":MAILTO:windsor@lfcanada.com
END:VEVENT
BEGIN:VEVENT
DTSTART;TZID=America/Toronto:20231216T200000
DTEND;TZID=America/Toronto:20231217T020000
DTSTAMP:20260425T174701
CREATED:20231101T135604Z
LAST-MODIFIED:20231101T155457Z
UID:2507-1702756800-1702778400@lfcanada.com
SUMMARY:LFC Ottawa Christmas & New Year's party 2023
DESCRIPTION:LFC Ottawa Christmas & New Year’s party 2023
URL:https://lfcanada.com/event/2507/
LOCATION:Ottawa\, 750 Ridgewood Ave\, Ottawa\, ONT\, Canada
END:VEVENT
BEGIN:VEVENT
DTSTART;TZID=America/Toronto:20231210T160000
DTEND;TZID=America/Toronto:20231210T190000
DTSTAMP:20260425T174701
CREATED:20231103T230359Z
LAST-MODIFIED:20231114T134551Z
UID:2545-1702224000-1702234800@lfcanada.com
SUMMARY:LFC Toronto Christmas Gathering 2023
DESCRIPTION:
URL:https://lfcanada.com/event/lfc-toronto-christmas-gathering-2023/
LOCATION:Lara’s Restaurant\, 155 Consumers Rd\, Toronto\, ON\, M2J 0A8\, Canada
END:VEVENT
BEGIN:VEVENT
DTSTART;TZID=America/Toronto:20231209T200000
DTEND;TZID=America/Toronto:20231209T233000
DTSTAMP:20260425T174701
CREATED:20231028T174604Z
LAST-MODIFIED:20231028T174714Z
UID:2468-1702152000-1702164600@lfcanada.com
SUMMARY:LFC Windsor-Leamington Christmas Celebration 2023
DESCRIPTION:
URL:https://lfcanada.com/event/lfc-windsor-leamington-christmas-celebration-2023/
LOCATION:Fogolar Furlan\, 1800 N Service Rd\, Windsor\, ON\, N8W 1Y3\, Canada
END:VEVENT
BEGIN:VEVENT
DTSTART;TZID=America/Toronto:20230730T100000
DTEND;TZID=America/Toronto:20230730T160000
DTSTAMP:20260425T174701
CREATED:20230524T203422Z
LAST-MODIFIED:20230808T045612Z
UID:1703-1690711200-1690732800@lfcanada.com
SUMMARY:LFC Toronto Chapter Annual Picnic
DESCRIPTION:
URL:https://lfcanada.com/event/lfc-toronto-chapter-annual-picnic/
LOCATION:Boyd Conservation Park\, 8739 Islington Ave\, Vaughan\, ON\, L4L1A6\, Canada
END:VEVENT
BEGIN:VEVENT
DTSTART;TZID=America/Toronto:20230716T080000
DTEND;TZID=America/Toronto:20230716T170000
DTSTAMP:20260425T174701
CREATED:20230524T203927Z
LAST-MODIFIED:20230524T212131Z
UID:1709-1689494400-1689526800@lfcanada.com
SUMMARY:LFC Edmonton Annual Picnic
DESCRIPTION:
URL:https://lfcanada.com/event/lfc-edmonton-annual-picnic/
LOCATION:Ontario
END:VEVENT
END:VCALENDAR